BEGIN:VCALENDAR
VERSION:2.0
PRODID:-//Synergy Fitness for Her - ECPv6.15.20//NONSGML v1.0//EN
CALSCALE:GREGORIAN
METHOD:PUBLISH
X-WR-CALNAME:Synergy Fitness for Her
X-ORIGINAL-URL:https://synergyfitnessforher.com
X-WR-CALDESC:Events for Synergy Fitness for Her
REFRESH-INTERVAL;VALUE=DURATION:PT1H
X-Robots-Tag:noindex
X-PUBLISHED-TTL:PT1H
BEGIN:VTIMEZONE
TZID:America/New_York
BEGIN:DAYLIGHT
TZOFFSETFROM:-0500
TZOFFSETTO:-0400
TZNAME:EDT
DTSTART:20230312T070000
END:DAYLIGHT
BEGIN:STANDARD
TZOFFSETFROM:-0400
TZOFFSETTO:-0500
TZNAME:EST
DTSTART:20231105T060000
END:STANDARD
BEGIN:DAYLIGHT
TZOFFSETFROM:-0500
TZOFFSETTO:-0400
TZNAME:EDT
DTSTART:20240310T070000
END:DAYLIGHT
BEGIN:STANDARD
TZOFFSETFROM:-0400
TZOFFSETTO:-0500
TZNAME:EST
DTSTART:20241103T060000
END:STANDARD
BEGIN:DAYLIGHT
TZOFFSETFROM:-0500
TZOFFSETTO:-0400
TZNAME:EDT
DTSTART:20250309T070000
END:DAYLIGHT
BEGIN:STANDARD
TZOFFSETFROM:-0400
TZOFFSETTO:-0500
TZNAME:EST
DTSTART:20251102T060000
END:STANDARD
END:VTIMEZONE
BEGIN:VEVENT
DTSTART;VALUE=DATE:20240101
DTEND;VALUE=DATE:20240416
DTSTAMP:20260420T030620
CREATED:20231220T210729Z
LAST-MODIFIED:20231220T211107Z
UID:2896-1704067200-1713225599@synergyfitnessforher.com
SUMMARY:100 Mile Challenge
DESCRIPTION:  \n\n\n\n100- Mile Challenge Info\n\n\n\nQ:What is the purpose of this challenge? A: The goal is to complete one mile every day for 100 days in an effort to encourage movement in your daily life. Spreading the challenge across 100 days facilitates habit building as you find fun ways to get yourself moving. \n\n\n\nQ:Who can join the challenge? A: Anyone! The challenge is open to members and guests of all fitness levels\, so grab your friends or family members and invite them to join you in kicking off the new year! \n\n\n\nQ: How do I join the challenge? A: You can register and pick up the mileage tracker in person at Synergy Fitness\, or you can sign up using the Synergy Fitness for Her app. The cost is $5 for members and $10 for guests. \n\n\n\nOn the app\, under the retail section select 100-Miles (choose member or guest) to register. Trackers purchased digitally will be emailed 12/31. \n\n\n\nAdditionally\, if you want to track and show off your progress for a little fun and friendly competition against other challenge members\, you can join the “Synergy Fitness for Her – 100 Miles Challenge Club”on the Strava app. Please note\, the group will not be open in Strava until 1/1. All participants will receive an email on 12/31 outlining the details. \n\n\n\nQ: What exercises count? A: Anything measured by distance that makes you break a sweat: hiking\, biking\, walking\, running\, rowing\, kayaking\, canoeing\, stair climbing\, etc. Devices that do the work for you are not permitted\, so please leave your scooters\, skateboards\, electric bicycles\, segways\, electric unicycles\, etc. at home. \n\n\n\nQ: How do I complete the challenge? A: You must finish a minimum of 100 miles within the 100 days\, and you must record activity on at least 80 of the days. Additionally\, participants cannot exceed an inactive period of four days in a row. \n\n\n\nQ: Can I log more than 100 miles? A: Absolutely! Feel free to complete as many extra miles as you like. Avoid completing a handful of longer bike rides\, runs\, etc. at the beginning just to be done with the challenge as quickly as possible. \n\n\n\nQ: How do I use the tracker? A: In each daily box of the tracker\, record your mileage for the day as well as the mode\, using the below mode key. You are allowed to split up your mileage throughout the day. For example\, a 1/2 mile walk in the morning and another 1/2 mile walk in the afternoon equals one mile for the day. \n\n\n\nW=walk\, RU=run\, H=hike\, B=bicycle\, SB=stationary bike\, S=swim\, RO=row\, P=Paddle\, O=other \n\n\n\nQ: What do I do at the end of the challenge? A: Turn in your mileage tracker by 7:00 pm Monday 4/15 to be entered into the grand prize drawing! \n\n\n\nYou can turn it in to any staff member at Synergy Fitness for Her (don’t forget to put your name at the top!)\, or via email to info@synergyfitnessforher.com. \n\n\n\nDownload the tracker below: \n\n\n\n100-miles_challengeDownload
URL:https://synergyfitnessforher.com/event/100-mile-challenge/
LOCATION:Synergy Fitness for Her\, 4810 Hope Valley Rd\, Ste 107\, Durham\, NC\, 27707\, United States
ATTACH;FMTTYPE=image/jpeg:https://synergyfitnessforher.com/wp-content/uploads/2023/12/231212_100MileChalange1400x932-px.jpg
ORGANIZER;CN="SynergyFitnessForHer":MAILTO:info@synergyfitnessforher.com
END:VEVENT
END:VCALENDAR